BEGIN:VCALENDAR
VERSION:2.0
PRODID:-//Shine with Andrea - ECPv6.15.19//NONSGML v1.0//EN
CALSCALE:GREGORIAN
METHOD:PUBLISH
X-ORIGINAL-URL:https://shinewithandrea.com
X-WR-CALDESC:Events for Shine with Andrea
REFRESH-INTERVAL;VALUE=DURATION:PT1H
X-Robots-Tag:noindex
X-PUBLISHED-TTL:PT1H
BEGIN:VTIMEZONE
TZID:America/New_York
BEGIN:DAYLIGHT
TZOFFSETFROM:-0500
TZOFFSETTO:-0400
TZNAME:EDT
DTSTART:20240310T070000
END:DAYLIGHT
BEGIN:STANDARD
TZOFFSETFROM:-0400
TZOFFSETTO:-0500
TZNAME:EST
DTSTART:20241103T060000
END:STANDARD
BEGIN:DAYLIGHT
TZOFFSETFROM:-0500
TZOFFSETTO:-0400
TZNAME:EDT
DTSTART:20250309T070000
END:DAYLIGHT
BEGIN:STANDARD
TZOFFSETFROM:-0400
TZOFFSETTO:-0500
TZNAME:EST
DTSTART:20251102T060000
END:STANDARD
BEGIN:DAYLIGHT
TZOFFSETFROM:-0500
TZOFFSETTO:-0400
TZNAME:EDT
DTSTART:20260308T070000
END:DAYLIGHT
BEGIN:STANDARD
TZOFFSETFROM:-0400
TZOFFSETTO:-0500
TZNAME:EST
DTSTART:20261101T060000
END:STANDARD
BEGIN:DAYLIGHT
TZOFFSETFROM:-0500
TZOFFSETTO:-0400
TZNAME:EDT
DTSTART:20270314T070000
END:DAYLIGHT
BEGIN:STANDARD
TZOFFSETFROM:-0400
TZOFFSETTO:-0500
TZNAME:EST
DTSTART:20271107T060000
END:STANDARD
END:VTIMEZONE
BEGIN:VTIMEZONE
TZID:UTC
BEGIN:STANDARD
TZOFFSETFROM:+0000
TZOFFSETTO:+0000
TZNAME:UTC
DTSTART:20240101T000000
END:STANDARD
END:VTIMEZONE
BEGIN:VEVENT
DTSTART;TZID=America/New_York:20260103T150000
DTEND;TZID=America/New_York:20260103T180000
DTSTAMP:20260423T160656
CREATED:20251218T034431Z
LAST-MODIFIED:20251231T024504Z
UID:631-1767452400-1767463200@shinewithandrea.com
SUMMARY:VISION BOARD LEARN & CREATE SOIREE
DESCRIPTION:Pull up\, sis.\n\n\n\nThe Vision Board Learn & Create Soirée on January 3rd is not your average cut and paste\, kumbaya vision board party. This is a whole three hour virtual vibe with our very own #DJ. (See the options & investment below).\n\n\nWe are coming together to reflect\, laugh\, dream\, pray\, and get real about who you are becoming in 2026.\n\n\n\nI am guiding you through powerful reflection questions that will have you thinking about how you want to show up\, what you are finally releasing\, and where God is calling you to shine louder and bolder. Then I am teaching you\, step by step\, how to create a digital vision board in Canva that actually supports that vision. No experience needed\, I got you.\n\n\n\nAnd let me tell you this from experience\, every time I have created a vision board\, printed it out\, and placed it where I could see it daily\, almost everything on that board came to pass. Seeing it every single day kept me focused\, obedient\, and moving in alignment even when life tried to distract me.\n\nWe also have a very special guest\, Amber Renae\, who recently went viral and gained national attention. She’ll be sharing her testimony\, and I promise you\, you’ll leave encouraged\, inspired\, and reminded that God still does big things through ordinary obedience.\n\n\n\n\n\nThis is not about pretty pictures or perfection.\nThis is about clarity.\nConsistency.\nCourage.\nPeriod.\n\n\nNow listen closely\, because you have options.\n\n\n\nOption one: INVESTMENT\n\n\nYou can join the full three hour live Learn & Create Soirée. You come party with us\, learn how to build your vision board\, and create it yourself in real time with my guidance.\n\n\n\n\n\nOption two: CLOSED\n\n\nYou can commission me to create a custom\, personalized digital vision board just for you. You will fill out a guided Google form\, pour out your heart\, your goals\, your faith\, your season\, and I will design a vision board that reflects exactly where you are headed. You can use it digitally or print it poster size if you want to see that thing every single day.\n\n\n\nAnd yes\, if you commission your board and still want to come hang out at the soirée\, that part is free. Because community matters.\n\n\n\n This is for the woman who knows she cannot afford to drift into another year on autopilot.\n\n\n\n This is for the woman who is ready to stop hiding\, stop shrinking\, and start showing up aligned.\n\n\n\nTrust me\, you do not want to miss this.\nClear vision changes everything.\nPull up and let’s make 2026 make sense.
URL:https://shinewithandrea.com/event/vision-board-learn-create-soiree/
LOCATION:Virtual\, United States
ATTACH;FMTTYPE=image/png:https://shinewithandrea.com/wp-content/uploads/2025/12/Vision-Board-2026-3-scaled.png
END:VEVENT
BEGIN:VEVENT
DTSTART;TZID=America/New_York:20251205T210000
DTEND;TZID=America/New_York:20251205T230000
DTSTAMP:20260423T160656
CREATED:20251109T040953Z
LAST-MODIFIED:20251205T202336Z
UID:521-1764968400-1764975600@shinewithandrea.com
SUMMARY:December First Friday Worship Experience
DESCRIPTION:I’ve come to realize something deeply important: we must be ready for battle\, but we are not meant to fight alone. Breakthroughs happen during worship. \nJOIN US on the FIRST FRIDAY of every month at 9PM EST for a powerful Virtual Worship Experience with my husband Gordon Harrison a.k.a. #DJSHOFAR! \nThis is a powerful opportunity to connect deeply with God\, focus our hearts on HIS unmatched power\, and stand firm against the distractions and schemes of the enemy. \nWhen: First Friday. Monthly \nInvite your friends and get ready to experience worship in a fresh\, meaningful way. All are welcome. Come as you are. “Cameras on” preferred but not required. \nREGISTER HERE \nOnce you register\, Zoom will send you an email with your personalized Zoom link to join.
URL:https://shinewithandrea.com/event/december-first-friday-worship-experience/
LOCATION:Virtual\, United States
END:VEVENT
BEGIN:VEVENT
DTSTART;TZID=UTC:20251003T210000
DTEND;TZID=UTC:20251003T230000
DTSTAMP:20260423T160656
CREATED:20251003T134125Z
LAST-MODIFIED:20251003T134126Z
UID:515-1759525200-1759532400@shinewithandrea.com
SUMMARY:October First Friday Worship Experience
DESCRIPTION:As we step into this new season\, preparing to embrace our next level in the year ahead\, I’ve come to realize something deeply important: we must be ready for battle\, but we are not meant to fight alone. \nJOIN US on the FIRST FRIDAY of every month at 9PM EST for a Powerful Virtual Worship Experience with my husband Gordon W Harrison a.k.a. #DJSHOFAR! \nThis is a powerful opportunity to connect deeply with God\, focus our hearts on HIS unmatched power\, and stand firm against the distractions and schemes of the enemy. \nWhen: First Friday. Monthly \nInvite your friends and get ready to experience worship in a fresh\, meaningful way. All are welcome. Come as you are. “Cameras on” preferred but not required. \nWhere: Zoom Registration Required REGISTER HERE
URL:https://shinewithandrea.com/event/october-first-friday-worship-experience/
LOCATION:Virtual\, United States
ATTACH;FMTTYPE=image/jpeg:https://shinewithandrea.com/wp-content/uploads/2025/10/WhatsApp-Image-2025-10-03-at-8.17.06-AM.jpeg
END:VEVENT
BEGIN:VEVENT
DTSTART;TZID=UTC:20250930T210000
DTEND;TZID=UTC:20250930T223000
DTSTAMP:20260423T160656
CREATED:20250902T142007Z
LAST-MODIFIED:20250902T142008Z
UID:502-1759266000-1759271400@shinewithandrea.com
SUMMARY:Virtual Sip and Shine Soiree
DESCRIPTION:Grab your favorite drink and your signed copy of Show Up & Shine\, then join me for the Sip & Shine Soirée! \nThis isn’t just a book reading\, it’s a night of boldness\, laughter\, and community. \nTogether we’ll celebrate the amazing women who received their copy of Show Up & Shine in September and are ready to come out of hiding and start shining. \nWe’ll read\, tab\, and highlight your book\, you’ll learn a powerful 15-Minute Shine Strategy you can put into action immediately\, and you’ll leave fired up to stop hiding and start shining. \nRegister Here
URL:https://shinewithandrea.com/event/virtual-sip-and-shine-soiree/
LOCATION:Virtual\, United States
ATTACH;FMTTYPE=image/jpeg:https://shinewithandrea.com/wp-content/uploads/2025/09/WhatsApp-Image-2025-09-01-at-4.09.00-PM.jpeg
END:VEVENT
BEGIN:VEVENT
DTSTART;TZID=UTC:20250905T210000
DTEND;TZID=UTC:20250905T230000
DTSTAMP:20260423T160656
CREATED:20250902T135045Z
LAST-MODIFIED:20250902T140110Z
UID:493-1757106000-1757113200@shinewithandrea.com
SUMMARY:September First Friday Worship Experience
DESCRIPTION:As we step into this new season\, preparing to embrace our next level in the year ahead\, I’ve come to realize something deeply important: we must be ready for battle\, but we are not meant to fight alone. \nJOIN US on the FIRST FRIDAY of every month at 9PM EST for a Powerful Virtual Worship Experience with my husband Gordon W Harrison a.k.a. #DJSHOFAR! \nThis is a powerful opportunity to connect deeply with God\, focus our hearts on HIS unmatched power\, and stand firm against the distractions and schemes of the enemy. \nWhen: First Friday. Monthly \nInvite your friends and get ready to experience worship in a fresh\, meaningful way. All are welcome. Come as you are. “Cameras on” preferred but not required. \nWhere: Zoom Registration Required REGISTER HERE
URL:https://shinewithandrea.com/event/september-first-friday-worship-experience/
LOCATION:Virtual\, United States
ATTACH;FMTTYPE=image/jpeg:https://shinewithandrea.com/wp-content/uploads/2025/09/FIRST-FRIDAYS-7-scaled.jpg
END:VEVENT
BEGIN:VEVENT
DTSTART;TZID=UTC:20250606T210000
DTEND;TZID=UTC:20250606T220000
DTSTAMP:20260423T160656
CREATED:20250506T135939Z
LAST-MODIFIED:20250506T135940Z
UID:483-1749243600-1749247200@shinewithandrea.com
SUMMARY:June First Friday Worship Experience
DESCRIPTION:As we step into this new season\, preparing to embrace our next level in the year ahead\, I’ve come to realize something deeply important: we must be ready for battle\, but we are not meant to fight alone. \nJOIN US on the FIRST FRIDAY of every month at 9PM EST for a Powerful Virtual Worship Experience with my husband Gordon W Harrison a.k.a. #DJSHOFAR! \nThis is a powerful opportunity to connect deeply with God\, focus our hearts on HIS unmatched power\, and stand firm against the distractions and schemes of the enemy. \nWhen: First Friday. Monthly \nInvite your friends and get ready to experience worship in a fresh\, meaningful way. All are welcome. Come as you are. “Cameras on” preferred but not required. \nWhere: Zoom Registration Required REGISTER HERE
URL:https://shinewithandrea.com/event/june-first-friday-worship-experience/
LOCATION:Virtual\, United States
ATTACH;FMTTYPE=image/jpeg:https://shinewithandrea.com/wp-content/uploads/2025/05/WhatsApp-Image-2025-05-05-at-2.28.35-PM.jpeg
END:VEVENT
BEGIN:VEVENT
DTSTART;TZID=UTC:20250502T210000
DTEND;TZID=UTC:20250502T220000
DTSTAMP:20260423T160656
CREATED:20250501T142828Z
LAST-MODIFIED:20250501T142829Z
UID:470-1746219600-1746223200@shinewithandrea.com
SUMMARY:May First Friday Worship Experience
DESCRIPTION:As we step into this new season\, preparing to embrace our next level in the year ahead\, I’ve come to realize something deeply important: we must be ready for battle\, but we are not meant to fight alone. \nJOIN US on the FIRST FRIDAY of every month at 9PM EST for a Powerful Virtual Worship Experience with my husband Gordon W Harrison a.k.a. #DJSHOFAR! \nThis is a powerful opportunity to connect deeply with God\, focus our hearts on HIS unmatched power\, and stand firm against the distractions and schemes of the enemy. \nWhen: First Friday. Monthly \nInvite your friends and get ready to experience worship in a fresh\, meaningful way. All are welcome. Come as you are. “Cameras on” preferred but not required. \nWhere: Zoom Registration Required REGISTER HERE
URL:https://shinewithandrea.com/event/may-first-friday-worship-experience/
LOCATION:Virtual\, United States
ATTACH;FMTTYPE=image/jpeg:https://shinewithandrea.com/wp-content/uploads/2025/05/WhatsApp-Image-2025-04-28-at-12.06.55-PM.jpeg
END:VEVENT
BEGIN:VEVENT
DTSTART;TZID=UTC:20250419T160000
DTEND;TZID=UTC:20250419T200000
DTSTAMP:20260423T160656
CREATED:20250313T185810Z
LAST-MODIFIED:20250313T185811Z
UID:443-1745078400-1745092800@shinewithandrea.com
SUMMARY:#SHINECREW - Show Up and Shine Experience! Tampa
DESCRIPTION:Step into a night of transformation at the Show Up & Shine Experience\, an intimate evening of empowerment\, strategy\, and sisterhood designed to help you step fully into your purpose. Inspired by the principles of Show Up & Shine\, this workshop and dinner will guide you through the key pillars of confidence and courage\, so you can stop hiding and start showing up as the bold\, visible leader you were created to be. \nWith an exclusive workbook and interactive exercises\, you’ll gain practical tools to own your voice\, engage your audience\, and move forward with unstoppable faith. \nOver a shared meal\, expect deep\, purpose-filled conversations and divine connections with like-minded women who are ready to elevate. If you’re tired of shrinking and ready to shine\, this is your moment\, because your obedience to the call will unlock doors you never imagined! \n			\n				Get Your Ticket Now
URL:https://shinewithandrea.com/event/shinecrew-show-up-and-shine-experience-tampa/
LOCATION:Will be sent via email\, Tampa
ATTACH;FMTTYPE=image/jpeg:https://shinewithandrea.com/wp-content/uploads/2025/03/WhatsApp-Image-2025-03-13-at-1.23.46-PM.jpeg
END:VEVENT
BEGIN:VEVENT
DTSTART;TZID=UTC:20250404T210000
DTEND;TZID=UTC:20250404T220000
DTSTAMP:20260423T160656
CREATED:20250404T010746Z
LAST-MODIFIED:20250404T173102Z
UID:461-1743800400-1743804000@shinewithandrea.com
SUMMARY:April First Friday Worship Experience
DESCRIPTION:As we step into this new season\, preparing to embrace our next level in the year ahead\, I’ve come to realize something deeply important: we must be ready for battle\, but we are not meant to fight alone. \nJOIN US on the FIRST FRIDAY of every month at 9PM EST for a Powerful Virtual Worship Experience with my husband Gordon W Harrison a.k.a. #DJSHOFAR! \nThis is a powerful opportunity to connect deeply with God\, focus our hearts on HIS unmatched power\, and stand firm against the distractions and schemes of the enemy. \nWhen: First Friday. Monthly \nInvite your friends and get ready to experience worship in a fresh\, meaningful way. All are welcome. Come as you are. “Cameras on” preferred but not required. \nWhere: Zoom Registration Required REGISTER HERE
URL:https://shinewithandrea.com/event/april-first-friday-worship-experience/
LOCATION:Virtual\, United States
ATTACH;FMTTYPE=image/jpeg:https://shinewithandrea.com/wp-content/uploads/2025/04/WhatsApp-Image-2025-04-03-at-8.38.04-PM.jpeg
END:VEVENT
BEGIN:VEVENT
DTSTART;TZID=UTC:20250307T210000
DTEND;TZID=UTC:20250307T230000
DTSTAMP:20260423T160656
CREATED:20250223T183504Z
LAST-MODIFIED:20250223T183513Z
UID:435-1741381200-1741388400@shinewithandrea.com
SUMMARY:First Friday Worship Experience  - March 2025
DESCRIPTION:As we step into this new season\, preparing to embrace our next level in the year ahead\, I’ve come to realize something deeply important: we must be ready for battle\, but we are not meant to fight alone. \nJOIN US on the FIRST FRIDAY of every month at 9PM EST for a Powerful Virtual Worship Experience with my husband Gordon W Harrison a.k.a. #DJSHOFAR! \nThis is a powerful opportunity to connect deeply with God\, focus our hearts on HIS unmatched power\, and stand firm against the distractions and schemes of the enemy. \nWhen: First Friday. Monthly \nInvite your friends and get ready to experience worship in a fresh\, meaningful way. All are welcome. Come as you are. “Cameras on” preferred but not required. \nWhere: Zoom Registration Required REGISTER HERE
URL:https://shinewithandrea.com/event/first-friday-worship-experience-march-2025/
LOCATION:Virtual\, United States
ATTACH;FMTTYPE=image/jpeg:https://shinewithandrea.com/wp-content/uploads/2025/02/WhatsApp-Image-2025-02-22-at-9.30.23-AM.jpeg
END:VEVENT
BEGIN:VEVENT
DTSTART;TZID=UTC:20250217T120000
DTEND;TZID=UTC:20250221T120000
DTSTAMP:20260423T160656
CREATED:20250217T161241Z
LAST-MODIFIED:20250217T161804Z
UID:430-1739793600-1740139200@shinewithandrea.com
SUMMARY:Sweat. Shine. Sparkle. February 17 - 21
DESCRIPTION:IT’S TIME TO MOVE TOGETHER! \n\n\nLooking for a fun\, supportive way to stay active? Join us on Zoom every weekday at 12 PM EST this February! \n\n\nWhether you want to take a stroll\, groove to some music\, or simply move your arms from your chair—it’s all about moving at your own pace. No pressure\, just positive vibes! \n\n\n With DJ Shofar playing music and encouraging us step by step\, you’ll feel energized and inspired to make movement part of your day.\n\n\n\n\n Commit to just 15 minutes and experience the joy of moving with an amazing community.\n\n\n All are welcome! Let’s sweat\, shine\, and sparkle together.\n\n\n\n\n\n\n\n			\n				\n				\n				\n				\n				REGISTER HERE and make time for yourself! \n			\n				\n				\n				\n				\n				\n\n\n\n\n\n\n\n\n\n\n\n\n\n\n\n\n\n\n\n\n\n\n\n\n\n\n\n\n\n\n\n\n\n#SweatShineSparkle #MoveWithUs #ChooseJoy #WalkAtYourPace #ShineTogether #ShineWithAndrea #ShineCrew #ChooseJoy #Move #Walk\n\n\n\n\n\n\n\n\n\n 
URL:https://shinewithandrea.com/event/sweat-shine-sparklee-february-17-21/
LOCATION:Virtual\, United States
ATTACH;FMTTYPE=image/jpeg:https://shinewithandrea.com/wp-content/uploads/2025/02/WhatsApp-Image-2025-02-11-at-12.31.54-PM.jpeg
END:VEVENT
BEGIN:VEVENT
DTSTART;TZID=UTC:20250214T210000
DTEND;TZID=UTC:20250214T220000
DTSTAMP:20260423T160656
CREATED:20250201T034218Z
LAST-MODIFIED:20250209T013011Z
UID:395-1739566800-1739570400@shinewithandrea.com
SUMMARY:First Fridays - February
DESCRIPTION:As we step into this new season\, preparing to embrace our next level in the year ahead\, I’ve come to realize something deeply important: we must be ready for battle\, but we are not meant to fight alone. \nJOIN US on the FIRST FRIDAY of every month at 9PM EST for a Powerful Virtual Worship Experience with my husband Gordon W Harrison a.k.a. #DJSHOFAR! \nThis is a powerful opportunity to connect deeply with God\, focus our hearts on HIS unmatched power\, and stand firm against the distractions and schemes of the enemy. \nWhen: First Friday. Monthly \nInvite your friends and get ready to experience worship in a fresh\, meaningful way. All are welcome. Come as you are. “Cameras on” preferred but not required. \nWhere: Zoom Registration Required REGISTER HERE
URL:https://shinewithandrea.com/event/first-fridays-february/
LOCATION:Virtual\, United States
ATTACH;FMTTYPE=image/png:https://shinewithandrea.com/wp-content/uploads/2025/02/FIRST-FRIDAYS-1.png
END:VEVENT
BEGIN:VEVENT
DTSTART;TZID=UTC:20250210T120000
DTEND;TZID=UTC:20250214T120000
DTSTAMP:20260423T160656
CREATED:20250211T173642Z
LAST-MODIFIED:20250211T202458Z
UID:417-1739188800-1739534400@shinewithandrea.com
SUMMARY:Sweat. Shine. Sparkle February 10 - 14 2025
DESCRIPTION:IT’S TIME TO MOVE TOGETHER! \n\n\nLooking for a fun\, supportive way to stay active? Join us on Zoom every weekday at 12 PM EST this February! \n\n\nWhether you want to take a stroll\, groove to some music\, or simply move your arms from your chair—it’s all about moving at your own pace. No pressure\, just positive vibes! \n\n\n With DJ Shofar playing music and encouraging us step by step\, you’ll feel energized and inspired to make movement part of your day.\n\n\n\n\n Commit to just 15 minutes and experience the joy of moving with an amazing community.\n\n\n All are welcome! Let’s sweat\, shine\, and sparkle together.\n\n\n\n\n\n\n\n			\n				\n				\n				\n				\n				REGISTER HERE and make time for yourself! \n			\n				\n				\n				\n				\n				\n\n\n\n\n\n\n\n\n\n\n\n\n\n\n\n\n\n\n\n\n\n\n\n\n\n\n\n\n\n\n\n\n\n#SweatShineSparkle #MoveWithUs #ChooseJoy #WalkAtYourPace #ShineTogether #ShineWithAndrea #ShineCrew #ChooseJoy #Move #Walk\n\n\n\n\n\n\n\n\n\n 
URL:https://shinewithandrea.com/event/sweat-shine-sparkle-february-10-14-2025/
LOCATION:Virtual\, United States
ATTACH;FMTTYPE=image/jpeg:https://shinewithandrea.com/wp-content/uploads/2025/02/WhatsApp-Image-2025-02-11-at-12.31.54-PM.jpeg
END:VEVENT
BEGIN:VEVENT
DTSTART;TZID=UTC:20250208T130000
DTEND;TZID=UTC:20250208T160000
DTSTAMP:20260423T160656
CREATED:20250129T152112Z
LAST-MODIFIED:20250129T201426Z
UID:380-1739019600-1739030400@shinewithandrea.com
SUMMARY:#SHINECREW - ATL Meet & Greet
DESCRIPTION:WILL YOU BE THERE? #ATLANTA \nLife has a way of making us forget. We get caught up in the struggles\, the doubts\, and the demands of daily living\, and before we know it\, we’ve lost sight of who we are—the victories we’ve won\, the gifts we carry\, and the purpose God has placed within us. \nDuring this #ATL MEET & GREET\, we will create a sacred space to pause\, reflect\, and remember. Together\, we will take inventory of our successes\, accolades\, and accomplishments—not just to celebrate them\, but to reclaim the truth of who God created us to be. You will be guided through an intentional process of rediscovering your strengths\, wisdom\, and experiences\, and learning how to use them to empower and uplift others—because the world needs what you carry. \nThrough reflection\, faith\, and intentional action\, you will leave this workshop with:✅ A renewed confidence in your God-given purpose ✅ A clear understanding of how your past victories prepare you for future impact✅ Practical ways to use your gifts to inspire\, encourage\, and serve others \nYou were never meant to play small. It’s time to remember\, rise\, and walk boldly in all that God has called you to be. \nAre you ready to SHOW UP & SHINE? Join us. \n			\n				Get Your Ticket Now
URL:https://shinewithandrea.com/event/atl/
LOCATION:Will be sent via email\, Tampa
ATTACH;FMTTYPE=image/jpeg:https://shinewithandrea.com/wp-content/uploads/2025/01/WhatsApp-Image-2025-01-29-at-12.21.50-PM.jpeg
END:VEVENT
BEGIN:VEVENT
DTSTART;TZID=UTC:20250204T120000
DTEND;TZID=UTC:20250208T120000
DTSTAMP:20260423T160656
CREATED:20250201T035053Z
LAST-MODIFIED:20250205T155408Z
UID:406-1738670400-1739016000@shinewithandrea.com
SUMMARY:Sweat. Shine. Sparkle. - February Walking and Movement Challenge
DESCRIPTION:IT’S TIME TO MOVE TOGETHER! \n\n\nLooking for a fun\, supportive way to stay active? Join us on Zoom every weekday at 12 PM EST this February! \n\n\nWhether you want to take a stroll\, groove to some music\, or simply move your arms from your chair—it’s all about moving at your own pace. No pressure\, just positive vibes! \n\n\n With DJ Shofar playing music and encouraging us step by step\, you’ll feel energized and inspired to make movement part of your day.\n\n\n\n\n Commit to just 15 minutes and experience the joy of moving with an amazing community.\n\n\n All are welcome! Let’s sweat\, shine\, and sparkle together.\n\n\n\n\n\n\n\n			\n				\n				\n				\n				\n				REGISTER HERE and make time for yourself! \n			\n				\n				\n				\n				\n				\n\n\n\n\n\n\n\n\n\n\n\n\n\n\n\n\n\n\n\n\n\n\n\n\n\n\n\n\n\n\n\n\n\n#SweatShineSparkle #MoveWithUs #ChooseJoy #WalkAtYourPace #ShineTogether #ShineWithAndrea #ShineCrew #ChooseJoy #Move #Walk\n\n\n\n\n\n\n\n\n\n 
URL:https://shinewithandrea.com/event/sweat-shine-sparkle-february-walking-and-movement-challenge/
LOCATION:Virtual\, United States
ATTACH;FMTTYPE=image/png:https://shinewithandrea.com/wp-content/uploads/2025/01/SWEAT-640-x-200-px-YouTube-Thumbnail.png
END:VEVENT
BEGIN:VEVENT
DTSTART;TZID=UTC:20250101T120000
DTEND;TZID=UTC:20250131T123000
DTSTAMP:20260423T160656
CREATED:20250109T191731Z
LAST-MODIFIED:20250109T223008Z
UID:237-1735732800-1738326600@shinewithandrea.com
SUMMARY:Sweat. Shine. Sparkle.: 30 Day Walking & Moving Challenge
DESCRIPTION:IT’S TIME TO MOVE TOGETHER! \n\n\nLooking for a fun\, supportive way to stay active? Join us on Zoom every day at 12 PM EST this January! \n\n\nWhether you want to take a stroll\, groove to some music\, or simply move your arms from your chair—it’s all about moving at your own pace. No pressure\, just positive vibes! \n\n\n With DJ Shofar playing music and encouraging us step by step\, you’ll feel energized and inspired to make movement part of your day.\n\n\n\n\n Commit to just 15 minutes and experience the joy of moving with an amazing community.\n\n\n All are welcome! Let’s sweat\, shine\, and sparkle together.\n\n\n\n\n\n\n\n			\n				\n				\n				\n				\n				REGISTER HERE and make time for yourself! \n			\n				\n				\n				\n				\n				\n\n\n\n\n\n\n\n\n\n\n\n\n\n\n\n\n\n\n\n\n\n\n\n\n\n\n\n\n\n\n\n\n\n#SweatShineSparkle #MoveWithUs #ChooseJoy #WalkAtYourPace #ShineTogether #ShineWithAndrea #ShineCrew #ChooseJoy #Move #Walk\n\n\n\n\n\n\n\n\n\n 
URL:https://shinewithandrea.com/event/sweat-shine-sparkle-30-walking-challenge/
LOCATION:Virtual\, United States
ATTACH;FMTTYPE=image/png:https://shinewithandrea.com/wp-content/uploads/2025/01/SWEAT-640-x-200-px-YouTube-Thumbnail.png
END:VEVENT
END:VCALENDAR